BEGIN:VCALENDAR
VERSION:2.0
PRODID:-//NSW Scorers - ECPv6.15.20//NONSGML v1.0//EN
CALSCALE:GREGORIAN
METHOD:PUBLISH
X-WR-CALNAME:NSW Scorers
X-ORIGINAL-URL:https://www.nswbaseballscorers.com.au
X-WR-CALDESC:Events for NSW Scorers
REFRESH-INTERVAL;VALUE=DURATION:PT1H
X-Robots-Tag:noindex
X-PUBLISHED-TTL:PT1H
BEGIN:VTIMEZONE
TZID:UTC
BEGIN:STANDARD
TZOFFSETFROM:+0000
TZOFFSETTO:+0000
TZNAME:UTC
DTSTART:20230101T000000
END:STANDARD
END:VTIMEZONE
BEGIN:VEVENT
DTSTART;TZID=UTC:20241015T190000
DTEND;TZID=UTC:20241015T210000
DTSTAMP:20260425T194621
CREATED:20230921T104023Z
LAST-MODIFIED:20240925T012212Z
UID:343-1729018800-1729026000@www.nswbaseballscorers.com.au
SUMMARY:Scoring Q and A
DESCRIPTION:Zoom link: https://zoom.us/j/99632844682 \nPlease go the Registration Page to register for this session.
URL:https://www.nswbaseballscorers.com.au/event/training-q-a/
LOCATION:NSW
CATEGORIES:Education
END:VEVENT
END:VCALENDAR